{
 "currentVersion": 11.3,
 "cimVersion": "3.3.0",
 "serviceDescription": "",
 "mapName": "Layers",
 "description": "",
 "copyrightText": "",
 "supportsDynamicLayers": false,
 "layers": [
  {
   "id": 1,
   "name": "_2026",
   "parentLayerId": -1,
   "defaultVisibility": true,
   "subLayerIds": null,
   "minScale": 0,
   "maxScale": 0,
   "type": "Feature Layer",
   "geometryType": "esriGeometryPolygon",
   "supportsDynamicLegends": true
  },
  {
   "id": 110,
   "name": "Ann Arbor Basemap",
   "parentLayerId": -1,
   "defaultVisibility": true,
   "subLayerIds": [
    111,
    14,
    27,
    40
   ],
   "minScale": 0,
   "maxScale": 0,
   "type": "Group Layer",
   "supportsDynamicLegends": false
  },
  {
   "id": 111,
   "name": "240",
   "parentLayerId": 110,
   "defaultVisibility": true,
   "subLayerIds": [
    154
   ],
   "minScale": 240,
   "maxScale": 0,
   "type": "Group Layer",
   "supportsDynamicLegends": false
  },
  {
   "id": 154,
   "name": "Contour",
   "parentLayerId": 111,
   "defaultVisibility": true,
   "subLayerIds": null,
   "minScale": 240,
   "maxScale": 0,
   "type": "Feature Layer",
   "geometryType": "esriGeometryPolyline",
   "supportsDynamicLegends": true
  },
  {
   "id": 14,
   "name": "480",
   "parentLayerId": 110,
   "defaultVisibility": true,
   "subLayerIds": [
    153
   ],
   "minScale": 480,
   "maxScale": 241,
   "type": "Group Layer",
   "supportsDynamicLegends": false
  },
  {
   "id": 153,
   "name": "Contour",
   "parentLayerId": 14,
   "defaultVisibility": true,
   "subLayerIds": null,
   "minScale": 480,
   "maxScale": 241,
   "type": "Feature Layer",
   "geometryType": "esriGeometryPolyline",
   "supportsDynamicLegends": true
  },
  {
   "id": 27,
   "name": "600",
   "parentLayerId": 110,
   "defaultVisibility": true,
   "subLayerIds": [
    152
   ],
   "minScale": 600,
   "maxScale": 481,
   "type": "Group Layer",
   "supportsDynamicLegends": false
  },
  {
   "id": 152,
   "name": "Contour",
   "parentLayerId": 27,
   "defaultVisibility": true,
   "subLayerIds": null,
   "minScale": 600,
   "maxScale": 481,
   "type": "Feature Layer",
   "geometryType": "esriGeometryPolyline",
   "supportsDynamicLegends": true
  },
  {
   "id": 40,
   "name": "1200",
   "parentLayerId": 110,
   "defaultVisibility": true,
   "subLayerIds": [
    151
   ],
   "minScale": 1200,
   "maxScale": 601,
   "type": "Group Layer",
   "supportsDynamicLegends": false
  },
  {
   "id": 151,
   "name": "Contour",
   "parentLayerId": 40,
   "defaultVisibility": true,
   "subLayerIds": null,
   "minScale": 1200,
   "maxScale": 601,
   "type": "Feature Layer",
   "geometryType": "esriGeometryPolyline",
   "supportsDynamicLegends": true
  }
 ],
 "tables": [],
 "spatialReference": {
  "wkid": 2253,
  "latestWkid": 2253,
  "xyTolerance": 0.0032808398950131233,
  "zTolerance": 0.001,
  "mTolerance": 0.001,
  "falseX": -107138600,
  "falseY": -97193800,
  "xyUnits": 3048,
  "falseZ": -100000,
  "zUnits": 10000,
  "falseM": -100000,
  "mUnits": 10000
 },
 "singleFusedMapCache": true,
 "tileInfo": {
  "rows": 256,
  "cols": 256,
  "dpi": 96,
  "format": "MIXED",
  "compressionQuality": 75,
  "origin": {
   "x": -107138600,
   "y": 1.4333010000000003E8
  },
  "spatialReference": {
   "wkid": 2253,
   "latestWkid": 2253,
   "xyTolerance": 0.0032808398950131233,
   "zTolerance": 0.001,
   "mTolerance": 0.001,
   "falseX": -107138600,
   "falseY": -97193800,
   "xyUnits": 3.744825048463371E7,
   "falseZ": -100000,
   "zUnits": 10000,
   "falseM": -100000,
   "mUnits": 10000
  },
  "lods": [
   {
    "level": 0,
    "resolution": 66.66680000026666,
    "scale": 76800
   },
   {
    "level": 1,
    "resolution": 33.33340000013333,
    "scale": 38400
   },
   {
    "level": 2,
    "resolution": 16.666700000066665,
    "scale": 19200
   },
   {
    "level": 3,
    "resolution": 8.333350000033333,
    "scale": 9600
   },
   {
    "level": 4,
    "resolution": 4.166675000016666,
    "scale": 4800
   },
   {
    "level": 5,
    "resolution": 2.083337500008333,
    "scale": 2400
   },
   {
    "level": 6,
    "resolution": 1.0416687500041666,
    "scale": 1200
   },
   {
    "level": 7,
    "resolution": 0.5208343750020833,
    "scale": 600
   },
   {
    "level": 8,
    "resolution": 0.41666750000166664,
    "scale": 480
   },
   {
    "level": 9,
    "resolution": 0.20833375000083332,
    "scale": 240
   }
  ]
 },
 "storageInfo": {
  "storageFormat": "esriMapCacheStorageModeCompactV2",
  "packetSize": 128
 },
 "initialExtent": {
  "xmin": 1.3293023080622697E7,
  "ymin": 247934.1559720572,
  "xmax": 1.3296095037090613E7,
  "ymax": 314749.2091492456,
  "spatialReference": {
   "wkid": 2253,
   "latestWkid": 2253,
   "xyTolerance": 0.0032808398950131233,
   "zTolerance": 0.001,
   "mTolerance": 0.001,
   "falseX": -107138600,
   "falseY": -97193800,
   "xyUnits": 3048,
   "falseZ": -100000,
   "zUnits": 10000,
   "falseM": -100000,
   "mUnits": 10000
  }
 },
 "fullExtent": {
  "xmin": 1.3269999996844005E7,
  "ymin": 257499.99684542418,
  "xmax": 1.3322500003392339E7,
  "ymax": 307500.00314442813,
  "spatialReference": {
   "wkid": 2253,
   "latestWkid": 2253,
   "xyTolerance": 0.0032808398950131233,
   "zTolerance": 0.001,
   "mTolerance": 0.001,
   "falseX": -107138600,
   "falseY": -97193800,
   "xyUnits": 3048,
   "falseZ": -100000,
   "zUnits": 10000,
   "falseM": -100000,
   "mUnits": 10000
  }
 },
 "datesInUnknownTimezone": false,
 "minScale": 76800,
 "maxScale": 1,
 "units": "esriFeet",
 "supportedImageFormatTypes": "PNG32,PNG24,PNG,JPG,DIB,TIFF,EMF,PS,PDF,GIF,SVG,SVGZ,BMP",
 "documentInfo": {
  "Title": "Map",
  "Author": "",
  "Comments": "",
  "Subject": "",
  "Category": "",
  "Version": "2.9.0",
  "AntialiasingMode": "Fast",
  "TextAntialiasingMode": "Force",
  "Keywords": ""
 },
 "supportsQueryDomains": true,
 "capabilities": "Map,Query,Data",
 "supportedQueryFormats": "JSON, geoJSON, PBF",
 "exportTilesAllowed": false,
 "referenceScale": 0.0,
 "supportsDatumTransformation": true,
 "archivingInfo": {
  "supportsHistoricMoment": false
 },
 "supportsClipping": true,
 "supportsSpatialFilter": true,
 "supportsTimeRelation": true,
 "supportsQueryDataElements": true,
 "mapUnits": {
  "uwkid": 9002
 },
 "maxRecordCount": 2000,
 "maxImageHeight": 4096,
 "maxImageWidth": 4096,
 "supportedExtensions": "",
 "resampling": true
}
