{
 "currentVersion": 11.3,
 "cimVersion": "3.3.0",
 "serviceDescription": "",
 "mapName": "Map",
 "description": "",
 "copyrightText": "",
 "supportsDynamicLayers": false,
 "layers": [
  {
   "id": 0,
   "name": "_2026",
   "parentLayerId": -1,
   "defaultVisibility": true,
   "subLayerIds": null,
   "minScale": 0,
   "maxScale": 0,
   "type": "Feature Layer",
   "geometryType": "esriGeometryPolygon",
   "supportsDynamicLegends": true
  }
 ],
 "tables": [],
 "spatialReference": {
  "wkid": 2253,
  "latestWkid": 2253,
  "xyTolerance": 0.0032808398950131233,
  "zTolerance": 0.001,
  "mTolerance": 0.001,
  "falseX": -107138600,
  "falseY": -97193800,
  "xyUnits": 3048,
  "falseZ": -100000,
  "zUnits": 10000,
  "falseM": -100000,
  "mUnits": 10000
 },
 "singleFusedMapCache": true,
 "tileInfo": {
  "rows": 256,
  "cols": 256,
  "dpi": 96,
  "format": "MIXED",
  "compressionQuality": 75,
  "origin": {
   "x": -107138600,
   "y": 1.4333010000000003E8
  },
  "spatialReference": {
   "wkid": 2253,
   "latestWkid": 2253,
   "xyTolerance": 0.0032808398950131233,
   "zTolerance": 0.001,
   "mTolerance": 0.001,
   "falseX": -107138600,
   "falseY": -97193800,
   "xyUnits": 3.744825048463371E7,
   "falseZ": -100000,
   "zUnits": 10000,
   "falseM": -100000,
   "mUnits": 10000
  },
  "lods": [
   {
    "level": 0,
    "resolution": 66.66680000026666,
    "scale": 76800
   },
   {
    "level": 1,
    "resolution": 33.33340000013333,
    "scale": 38400
   },
   {
    "level": 2,
    "resolution": 16.666700000066665,
    "scale": 19200
   },
   {
    "level": 3,
    "resolution": 8.333350000033333,
    "scale": 9600
   },
   {
    "level": 4,
    "resolution": 4.166675000016666,
    "scale": 4800
   },
   {
    "level": 5,
    "resolution": 2.083337500008333,
    "scale": 2400
   },
   {
    "level": 6,
    "resolution": 1.0416687500041666,
    "scale": 1200
   },
   {
    "level": 7,
    "resolution": 0.5208343750020833,
    "scale": 600
   },
   {
    "level": 8,
    "resolution": 0.41666750000166664,
    "scale": 480
   },
   {
    "level": 9,
    "resolution": 0.20833375000083332,
    "scale": 240
   }
  ]
 },
 "storageInfo": {
  "storageFormat": "esriMapCacheStorageModeCompactV2",
  "packetSize": 128
 },
 "initialExtent": {
  "xmin": 1.3299012233809724E7,
  "ymin": 234385.08738955887,
  "xmax": 1.3302483220513452E7,
  "ymax": 321779.5740369474,
  "spatialReference": {
   "wkid": 2253,
   "latestWkid": 2253,
   "xyTolerance": 0.0032808398950131233,
   "zTolerance": 0.001,
   "mTolerance": 0.001,
   "falseX": -107138600,
   "falseY": -97193800,
   "xyUnits": 3048,
   "falseZ": -100000,
   "zUnits": 10000,
   "falseM": -100000,
   "mUnits": 10000
  }
 },
 "fullExtent": {
  "xmin": 13274000,
  "ymin": 260000,
  "xmax": 13322000,
  "ymax": 302000,
  "spatialReference": {
   "wkid": 2253,
   "latestWkid": 2253,
   "xyTolerance": 0.0032808398950131233,
   "zTolerance": 0.001,
   "mTolerance": 0.001,
   "falseX": -107138600,
   "falseY": -97193800,
   "xyUnits": 3048,
   "falseZ": -100000,
   "zUnits": 10000,
   "falseM": -100000,
   "mUnits": 10000
  }
 },
 "datesInUnknownTimezone": false,
 "minScale": 76800,
 "maxScale": 1,
 "minLOD": 0,
 "maxLOD": 9,
 "units": "esriFeet",
 "supportedImageFormatTypes": "PNG32,PNG24,PNG,JPG,DIB,TIFF,EMF,PS,PDF,GIF,SVG,SVGZ,BMP",
 "documentInfo": {
  "Title": "Map",
  "Author": "",
  "Comments": "",
  "Subject": "",
  "Category": "",
  "Version": "2.9.0",
  "AntialiasingMode": "Fast",
  "TextAntialiasingMode": "Force",
  "Keywords": ""
 },
 "supportsQueryDomains": true,
 "capabilities": "Map,Query,Data",
 "supportedQueryFormats": "JSON, geoJSON, PBF",
 "exportTilesAllowed": true,
 "maxExportTilesCount": 100000,
 "referenceScale": 0.0,
 "supportsDatumTransformation": true,
 "archivingInfo": {
  "supportsHistoricMoment": false
 },
 "supportsClipping": true,
 "supportsSpatialFilter": true,
 "supportsTimeRelation": true,
 "supportsQueryDataElements": true,
 "mapUnits": {
  "uwkid": 9002
 },
 "maxRecordCount": 2000,
 "maxImageHeight": 4096,
 "maxImageWidth": 4096,
 "supportedExtensions": "",
 "resampling": true
}
