{
 "currentVersion": 11.3,
 "cimVersion": "3.3.0",
 "serviceDescription": "",
 "mapName": "Layers",
 "description": "",
 "copyrightText": "",
 "supportsDynamicLayers": false,
 "layers": [
  {
   "id": 0,
   "name": "_2023",
   "parentLayerId": -1,
   "defaultVisibility": true,
   "subLayerIds": null,
   "minScale": 0,
   "maxScale": 0,
   "type": "Feature Layer",
   "geometryType": "esriGeometryPolygon",
   "supportsDynamicLegends": true
  },
  {
   "id": 110,
   "name": "Ann Arbor Basemap",
   "parentLayerId": -1,
   "defaultVisibility": true,
   "subLayerIds": [
    111,
    14,
    27,
    40,
    53,
    66,
    77,
    85,
    93,
    102
   ],
   "minScale": 0,
   "maxScale": 0,
   "type": "Group Layer",
   "supportsDynamicLegends": false
  },
  {
   "id": 111,
   "name": "240",
   "parentLayerId": 110,
   "defaultVisibility": true,
   "subLayerIds": [
    6
   ],
   "minScale": 240,
   "maxScale": 0,
   "type": "Group Layer",
   "supportsDynamicLegends": false
  },
  {
   "id": 6,
   "name": "Transportation and Infrastructure",
   "parentLayerId": 111,
   "defaultVisibility": true,
   "subLayerIds": [
    7,
    8,
    9,
    10
   ],
   "minScale": 0,
   "maxScale": 0,
   "type": "Group Layer",
   "supportsDynamicLegends": false
  },
  {
   "id": 7,
   "name": "Roads",
   "parentLayerId": 6,
   "defaultVisibility": true,
   "subLayerIds": null,
   "minScale": 0,
   "maxScale": 0,
   "type": "Feature Layer",
   "geometryType": "esriGeometryPolyline",
   "supportsDynamicLegends": true
  },
  {
   "id": 8,
   "name": "Railroads",
   "parentLayerId": 6,
   "defaultVisibility": true,
   "subLayerIds": null,
   "minScale": 0,
   "maxScale": 0,
   "type": "Feature Layer",
   "geometryType": "esriGeometryPolyline",
   "supportsDynamicLegends": true
  },
  {
   "id": 9,
   "name": "Edge Of Pavement",
   "parentLayerId": 6,
   "defaultVisibility": true,
   "subLayerIds": null,
   "minScale": 5000,
   "maxScale": 0,
   "type": "Feature Layer",
   "geometryType": "esriGeometryPolyline",
   "supportsDynamicLegends": true
  },
  {
   "id": 10,
   "name": "Right Of Way",
   "parentLayerId": 6,
   "defaultVisibility": true,
   "subLayerIds": null,
   "minScale": 0,
   "maxScale": 0,
   "type": "Feature Layer",
   "geometryType": "esriGeometryPolygon",
   "supportsDynamicLegends": true
  },
  {
   "id": 14,
   "name": "480",
   "parentLayerId": 110,
   "defaultVisibility": true,
   "subLayerIds": [
    19
   ],
   "minScale": 480,
   "maxScale": 241,
   "type": "Group Layer",
   "supportsDynamicLegends": false
  },
  {
   "id": 19,
   "name": "Transportation and Infrastructure",
   "parentLayerId": 14,
   "defaultVisibility": true,
   "subLayerIds": [
    20,
    21,
    22,
    23
   ],
   "minScale": 0,
   "maxScale": 0,
   "type": "Group Layer",
   "supportsDynamicLegends": false
  },
  {
   "id": 20,
   "name": "Roads",
   "parentLayerId": 19,
   "defaultVisibility": true,
   "subLayerIds": null,
   "minScale": 0,
   "maxScale": 0,
   "type": "Feature Layer",
   "geometryType": "esriGeometryPolyline",
   "supportsDynamicLegends": true
  },
  {
   "id": 21,
   "name": "Railroads",
   "parentLayerId": 19,
   "defaultVisibility": true,
   "subLayerIds": null,
   "minScale": 0,
   "maxScale": 0,
   "type": "Feature Layer",
   "geometryType": "esriGeometryPolyline",
   "supportsDynamicLegends": true
  },
  {
   "id": 22,
   "name": "Edge Of Pavement",
   "parentLayerId": 19,
   "defaultVisibility": true,
   "subLayerIds": null,
   "minScale": 5000,
   "maxScale": 0,
   "type": "Feature Layer",
   "geometryType": "esriGeometryPolyline",
   "supportsDynamicLegends": true
  },
  {
   "id": 23,
   "name": "Right Of Way",
   "parentLayerId": 19,
   "defaultVisibility": true,
   "subLayerIds": null,
   "minScale": 0,
   "maxScale": 0,
   "type": "Feature Layer",
   "geometryType": "esriGeometryPolygon",
   "supportsDynamicLegends": true
  },
  {
   "id": 27,
   "name": "600",
   "parentLayerId": 110,
   "defaultVisibility": true,
   "subLayerIds": [
    32
   ],
   "minScale": 600,
   "maxScale": 481,
   "type": "Group Layer",
   "supportsDynamicLegends": false
  },
  {
   "id": 32,
   "name": "Transportation and Infrastructure",
   "parentLayerId": 27,
   "defaultVisibility": true,
   "subLayerIds": [
    33,
    34,
    35,
    36
   ],
   "minScale": 0,
   "maxScale": 0,
   "type": "Group Layer",
   "supportsDynamicLegends": false
  },
  {
   "id": 33,
   "name": "Roads",
   "parentLayerId": 32,
   "defaultVisibility": true,
   "subLayerIds": null,
   "minScale": 0,
   "maxScale": 0,
   "type": "Feature Layer",
   "geometryType": "esriGeometryPolyline",
   "supportsDynamicLegends": true
  },
  {
   "id": 34,
   "name": "Railroads",
   "parentLayerId": 32,
   "defaultVisibility": true,
   "subLayerIds": null,
   "minScale": 0,
   "maxScale": 0,
   "type": "Feature Layer",
   "geometryType": "esriGeometryPolyline",
   "supportsDynamicLegends": true
  },
  {
   "id": 35,
   "name": "Edge Of Pavement",
   "parentLayerId": 32,
   "defaultVisibility": true,
   "subLayerIds": null,
   "minScale": 5000,
   "maxScale": 0,
   "type": "Feature Layer",
   "geometryType": "esriGeometryPolyline",
   "supportsDynamicLegends": true
  },
  {
   "id": 36,
   "name": "Right Of Way",
   "parentLayerId": 32,
   "defaultVisibility": true,
   "subLayerIds": null,
   "minScale": 0,
   "maxScale": 0,
   "type": "Feature Layer",
   "geometryType": "esriGeometryPolygon",
   "supportsDynamicLegends": true
  },
  {
   "id": 40,
   "name": "1200",
   "parentLayerId": 110,
   "defaultVisibility": true,
   "subLayerIds": [
    45
   ],
   "minScale": 1200,
   "maxScale": 601,
   "type": "Group Layer",
   "supportsDynamicLegends": false
  },
  {
   "id": 45,
   "name": "Transportation and Infrastructure",
   "parentLayerId": 40,
   "defaultVisibility": true,
   "subLayerIds": [
    46,
    47,
    48,
    49
   ],
   "minScale": 0,
   "maxScale": 0,
   "type": "Group Layer",
   "supportsDynamicLegends": false
  },
  {
   "id": 46,
   "name": "Roads",
   "parentLayerId": 45,
   "defaultVisibility": true,
   "subLayerIds": null,
   "minScale": 0,
   "maxScale": 0,
   "type": "Feature Layer",
   "geometryType": "esriGeometryPolyline",
   "supportsDynamicLegends": true
  },
  {
   "id": 47,
   "name": "Railroads",
   "parentLayerId": 45,
   "defaultVisibility": true,
   "subLayerIds": null,
   "minScale": 0,
   "maxScale": 0,
   "type": "Feature Layer",
   "geometryType": "esriGeometryPolyline",
   "supportsDynamicLegends": true
  },
  {
   "id": 48,
   "name": "Edge Of Pavement",
   "parentLayerId": 45,
   "defaultVisibility": true,
   "subLayerIds": null,
   "minScale": 5000,
   "maxScale": 0,
   "type": "Feature Layer",
   "geometryType": "esriGeometryPolyline",
   "supportsDynamicLegends": true
  },
  {
   "id": 49,
   "name": "Right Of Way",
   "parentLayerId": 45,
   "defaultVisibility": true,
   "subLayerIds": null,
   "minScale": 0,
   "maxScale": 0,
   "type": "Feature Layer",
   "geometryType": "esriGeometryPolygon",
   "supportsDynamicLegends": true
  },
  {
   "id": 53,
   "name": "2400",
   "parentLayerId": 110,
   "defaultVisibility": true,
   "subLayerIds": [
    58
   ],
   "minScale": 2400,
   "maxScale": 1201,
   "type": "Group Layer",
   "supportsDynamicLegends": false
  },
  {
   "id": 58,
   "name": "Transportation and Infrastructure",
   "parentLayerId": 53,
   "defaultVisibility": true,
   "subLayerIds": [
    59,
    60,
    61,
    62
   ],
   "minScale": 0,
   "maxScale": 0,
   "type": "Group Layer",
   "supportsDynamicLegends": false
  },
  {
   "id": 59,
   "name": "Roads",
   "parentLayerId": 58,
   "defaultVisibility": true,
   "subLayerIds": null,
   "minScale": 0,
   "maxScale": 0,
   "type": "Feature Layer",
   "geometryType": "esriGeometryPolyline",
   "supportsDynamicLegends": true
  },
  {
   "id": 60,
   "name": "Railroads",
   "parentLayerId": 58,
   "defaultVisibility": true,
   "subLayerIds": null,
   "minScale": 0,
   "maxScale": 0,
   "type": "Feature Layer",
   "geometryType": "esriGeometryPolyline",
   "supportsDynamicLegends": true
  },
  {
   "id": 61,
   "name": "Edge Of Pavement",
   "parentLayerId": 58,
   "defaultVisibility": true,
   "subLayerIds": null,
   "minScale": 5000,
   "maxScale": 0,
   "type": "Feature Layer",
   "geometryType": "esriGeometryPolyline",
   "supportsDynamicLegends": true
  },
  {
   "id": 62,
   "name": "Right Of Way",
   "parentLayerId": 58,
   "defaultVisibility": true,
   "subLayerIds": null,
   "minScale": 0,
   "maxScale": 0,
   "type": "Feature Layer",
   "geometryType": "esriGeometryPolygon",
   "supportsDynamicLegends": true
  },
  {
   "id": 66,
   "name": "4800",
   "parentLayerId": 110,
   "defaultVisibility": true,
   "subLayerIds": [
    70
   ],
   "minScale": 4800,
   "maxScale": 2401,
   "type": "Group Layer",
   "supportsDynamicLegends": false
  },
  {
   "id": 70,
   "name": "Transportation and Infrastructure",
   "parentLayerId": 66,
   "defaultVisibility": true,
   "subLayerIds": [
    71,
    72,
    73
   ],
   "minScale": 0,
   "maxScale": 0,
   "type": "Group Layer",
   "supportsDynamicLegends": false
  },
  {
   "id": 71,
   "name": "Roads",
   "parentLayerId": 70,
   "defaultVisibility": true,
   "subLayerIds": null,
   "minScale": 0,
   "maxScale": 0,
   "type": "Feature Layer",
   "geometryType": "esriGeometryPolyline",
   "supportsDynamicLegends": true
  },
  {
   "id": 72,
   "name": "Railroads",
   "parentLayerId": 70,
   "defaultVisibility": true,
   "subLayerIds": null,
   "minScale": 0,
   "maxScale": 0,
   "type": "Feature Layer",
   "geometryType": "esriGeometryPolyline",
   "supportsDynamicLegends": true
  },
  {
   "id": 73,
   "name": "Edge Of Pavement",
   "parentLayerId": 70,
   "defaultVisibility": false,
   "subLayerIds": null,
   "minScale": 5000,
   "maxScale": 0,
   "type": "Feature Layer",
   "geometryType": "esriGeometryPolyline",
   "supportsDynamicLegends": true
  },
  {
   "id": 77,
   "name": "9600",
   "parentLayerId": 110,
   "defaultVisibility": true,
   "subLayerIds": [
    79
   ],
   "minScale": 9600,
   "maxScale": 4801,
   "type": "Group Layer",
   "supportsDynamicLegends": false
  },
  {
   "id": 79,
   "name": "Transportation and Infrastructure",
   "parentLayerId": 77,
   "defaultVisibility": true,
   "subLayerIds": [
    80,
    81
   ],
   "minScale": 0,
   "maxScale": 0,
   "type": "Group Layer",
   "supportsDynamicLegends": false
  },
  {
   "id": 80,
   "name": "Roads",
   "parentLayerId": 79,
   "defaultVisibility": true,
   "subLayerIds": null,
   "minScale": 0,
   "maxScale": 0,
   "type": "Feature Layer",
   "geometryType": "esriGeometryPolyline",
   "supportsDynamicLegends": true
  },
  {
   "id": 81,
   "name": "Railroads",
   "parentLayerId": 79,
   "defaultVisibility": true,
   "subLayerIds": null,
   "minScale": 0,
   "maxScale": 0,
   "type": "Feature Layer",
   "geometryType": "esriGeometryPolyline",
   "supportsDynamicLegends": true
  },
  {
   "id": 85,
   "name": "19200",
   "parentLayerId": 110,
   "defaultVisibility": true,
   "subLayerIds": [
    87
   ],
   "minScale": 19200,
   "maxScale": 9601,
   "type": "Group Layer",
   "supportsDynamicLegends": false
  },
  {
   "id": 87,
   "name": "Transportation and Infrastructure",
   "parentLayerId": 85,
   "defaultVisibility": true,
   "subLayerIds": [
    88,
    89
   ],
   "minScale": 0,
   "maxScale": 0,
   "type": "Group Layer",
   "supportsDynamicLegends": false
  },
  {
   "id": 88,
   "name": "Roads",
   "parentLayerId": 87,
   "defaultVisibility": true,
   "subLayerIds": null,
   "minScale": 0,
   "maxScale": 0,
   "type": "Feature Layer",
   "geometryType": "esriGeometryPolyline",
   "supportsDynamicLegends": true
  },
  {
   "id": 89,
   "name": "Railroads",
   "parentLayerId": 87,
   "defaultVisibility": true,
   "subLayerIds": null,
   "minScale": 0,
   "maxScale": 0,
   "type": "Feature Layer",
   "geometryType": "esriGeometryPolyline",
   "supportsDynamicLegends": true
  },
  {
   "id": 93,
   "name": "38400",
   "parentLayerId": 110,
   "defaultVisibility": true,
   "subLayerIds": [
    95
   ],
   "minScale": 38400,
   "maxScale": 19201,
   "type": "Group Layer",
   "supportsDynamicLegends": false
  },
  {
   "id": 95,
   "name": "Transportation and Infrastructure",
   "parentLayerId": 93,
   "defaultVisibility": true,
   "subLayerIds": [
    96,
    97
   ],
   "minScale": 0,
   "maxScale": 0,
   "type": "Group Layer",
   "supportsDynamicLegends": false
  },
  {
   "id": 96,
   "name": "Roads",
   "parentLayerId": 95,
   "defaultVisibility": true,
   "subLayerIds": null,
   "minScale": 0,
   "maxScale": 24001,
   "type": "Feature Layer",
   "geometryType": "esriGeometryPolyline",
   "supportsDynamicLegends": true
  },
  {
   "id": 97,
   "name": "Railroads",
   "parentLayerId": 95,
   "defaultVisibility": true,
   "subLayerIds": null,
   "minScale": 0,
   "maxScale": 0,
   "type": "Feature Layer",
   "geometryType": "esriGeometryPolyline",
   "supportsDynamicLegends": true
  },
  {
   "id": 102,
   "name": "76800",
   "parentLayerId": 110,
   "defaultVisibility": true,
   "subLayerIds": [
    104
   ],
   "minScale": 1000000,
   "maxScale": 38401,
   "type": "Group Layer",
   "supportsDynamicLegends": false
  },
  {
   "id": 104,
   "name": "Transportation and Infrastructure",
   "parentLayerId": 102,
   "defaultVisibility": true,
   "subLayerIds": [
    105,
    106
   ],
   "minScale": 0,
   "maxScale": 0,
   "type": "Group Layer",
   "supportsDynamicLegends": false
  },
  {
   "id": 105,
   "name": "Roads",
   "parentLayerId": 104,
   "defaultVisibility": true,
   "subLayerIds": null,
   "minScale": 0,
   "maxScale": 24001,
   "type": "Feature Layer",
   "geometryType": "esriGeometryPolyline",
   "supportsDynamicLegends": true
  },
  {
   "id": 106,
   "name": "Railroads",
   "parentLayerId": 104,
   "defaultVisibility": true,
   "subLayerIds": null,
   "minScale": 0,
   "maxScale": 0,
   "type": "Feature Layer",
   "geometryType": "esriGeometryPolyline",
   "supportsDynamicLegends": true
  }
 ],
 "tables": [],
 "spatialReference": {
  "wkid": 2253,
  "latestWkid": 2253,
  "xyTolerance": 0.0032808398950131233,
  "zTolerance": 0.001,
  "mTolerance": 0.001,
  "falseX": -107138600,
  "falseY": -97193800,
  "xyUnits": 3048,
  "falseZ": -100000,
  "zUnits": 10000,
  "falseM": -100000,
  "mUnits": 10000
 },
 "singleFusedMapCache": true,
 "tileInfo": {
  "rows": 256,
  "cols": 256,
  "dpi": 96,
  "format": "MIXED",
  "compressionQuality": 75,
  "origin": {
   "x": -107138600,
   "y": 1.4333010000000003E8
  },
  "spatialReference": {
   "wkid": 2253,
   "latestWkid": 2253,
   "xyTolerance": 0.0032808398950131233,
   "zTolerance": 0.001,
   "mTolerance": 0.001,
   "falseX": -107138600,
   "falseY": -97193800,
   "xyUnits": 3.744825048463371E7,
   "falseZ": -100000,
   "zUnits": 10000,
   "falseM": -100000,
   "mUnits": 10000
  },
  "lods": [
   {
    "level": 0,
    "resolution": 66.66680000026666,
    "scale": 76800
   },
   {
    "level": 1,
    "resolution": 33.33340000013333,
    "scale": 38400
   },
   {
    "level": 2,
    "resolution": 16.666700000066665,
    "scale": 19200
   },
   {
    "level": 3,
    "resolution": 8.333350000033333,
    "scale": 9600
   },
   {
    "level": 4,
    "resolution": 4.166675000016666,
    "scale": 4800
   },
   {
    "level": 5,
    "resolution": 2.083337500008333,
    "scale": 2400
   },
   {
    "level": 6,
    "resolution": 1.0416687500041666,
    "scale": 1200
   },
   {
    "level": 7,
    "resolution": 0.5208343750020833,
    "scale": 600
   },
   {
    "level": 8,
    "resolution": 0.41666750000166664,
    "scale": 480
   },
   {
    "level": 9,
    "resolution": 0.20833375000083332,
    "scale": 240
   }
  ]
 },
 "storageInfo": {
  "storageFormat": "esriMapCacheStorageModeCompactV2",
  "packetSize": 128
 },
 "initialExtent": {
  "xmin": 1.3260328018556222E7,
  "ymin": 247840.17033846123,
  "xmax": 1.3331479174059182E7,
  "ymax": 315817.67717869795,
  "spatialReference": {
   "wkid": 2253,
   "latestWkid": 2253,
   "xyTolerance": 0.0032808398950131233,
   "zTolerance": 0.001,
   "mTolerance": 0.001,
   "falseX": -107138600,
   "falseY": -97193800,
   "xyUnits": 3048,
   "falseZ": -100000,
   "zUnits": 10000,
   "falseM": -100000,
   "mUnits": 10000
  }
 },
 "fullExtent": {
  "xmin": 1.3255671625238355E7,
  "ymin": 249879.80047170073,
  "xmax": 1.3334234212125335E7,
  "ymax": 326588.37121763825,
  "spatialReference": {
   "wkid": 2253,
   "latestWkid": 2253,
   "xyTolerance": 0.0032808398950131233,
   "zTolerance": 0.001,
   "mTolerance": 0.001,
   "falseX": -107138600,
   "falseY": -97193800,
   "xyUnits": 3048,
   "falseZ": -100000,
   "zUnits": 10000,
   "falseM": -100000,
   "mUnits": 10000
  }
 },
 "datesInUnknownTimezone": false,
 "minScale": 76800,
 "maxScale": 240,
 "units": "esriFeet",
 "supportedImageFormatTypes": "PNG32,PNG24,PNG,JPG,DIB,TIFF,EMF,PS,PDF,GIF,SVG,SVGZ,BMP",
 "documentInfo": {
  "Title": "Map",
  "Author": "",
  "Comments": "",
  "Subject": "",
  "Category": "",
  "Version": "2.9.0",
  "AntialiasingMode": "Fast",
  "TextAntialiasingMode": "Force",
  "Keywords": ""
 },
 "supportsQueryDomains": true,
 "capabilities": "Map,Query,Data",
 "supportedQueryFormats": "JSON, geoJSON, PBF",
 "hasVersionedData": true,
 "exportTilesAllowed": true,
 "maxExportTilesCount": 100000,
 "referenceScale": 0.0,
 "supportsDatumTransformation": true,
 "archivingInfo": {
  "supportsHistoricMoment": true
 },
 "supportsClipping": true,
 "supportsSpatialFilter": true,
 "supportsTimeRelation": true,
 "supportsQueryDataElements": true,
 "mapUnits": {
  "uwkid": 9002
 },
 "maxRecordCount": 2000,
 "maxImageHeight": 4096,
 "maxImageWidth": 4096,
 "supportedExtensions": "",
 "resampling": false
}
