{
 "currentVersion": 11.3,
 "cimVersion": "3.3.0",
 "serviceDescription": "2015 Aerial Photo Cache for Ann Arbor Web Maps",
 "mapName": "Layers",
 "description": "2015 Aerial Photo Cache for Ann Arbor Web Maps",
 "copyrightText": "City of Ann Arbor",
 "supportsDynamicLayers": false,
 "layers": [
  {
   "id": 0,
   "name": "Ann Arbor Photo",
   "parentLayerId": -1,
   "defaultVisibility": true,
   "subLayerIds": [
    1,
    7,
    13,
    19,
    25,
    31,
    36,
    40,
    44,
    48
   ],
   "minScale": 0,
   "maxScale": 0,
   "type": "Group Layer",
   "supportsDynamicLegends": false
  },
  {
   "id": 1,
   "name": "240",
   "parentLayerId": 0,
   "defaultVisibility": true,
   "subLayerIds": [
    2
   ],
   "minScale": 240,
   "maxScale": 0,
   "type": "Group Layer",
   "supportsDynamicLegends": false
  },
  {
   "id": 2,
   "name": "Transportation and Infrastructure",
   "parentLayerId": 1,
   "defaultVisibility": true,
   "subLayerIds": [
    3,
    4,
    5,
    6
   ],
   "minScale": 0,
   "maxScale": 0,
   "type": "Group Layer",
   "supportsDynamicLegends": false
  },
  {
   "id": 3,
   "name": "Roads",
   "parentLayerId": 2,
   "defaultVisibility": true,
   "subLayerIds": null,
   "minScale": 0,
   "maxScale": 0,
   "type": "Feature Layer",
   "geometryType": "esriGeometryPolyline",
   "supportsDynamicLegends": true
  },
  {
   "id": 4,
   "name": "Railroads",
   "parentLayerId": 2,
   "defaultVisibility": true,
   "subLayerIds": null,
   "minScale": 0,
   "maxScale": 0,
   "type": "Feature Layer",
   "geometryType": "esriGeometryPolyline",
   "supportsDynamicLegends": true
  },
  {
   "id": 5,
   "name": "Edge Of Pavement",
   "parentLayerId": 2,
   "defaultVisibility": true,
   "subLayerIds": null,
   "minScale": 5000,
   "maxScale": 0,
   "type": "Feature Layer",
   "geometryType": "esriGeometryPolyline",
   "supportsDynamicLegends": true
  },
  {
   "id": 6,
   "name": "Right Of Way",
   "parentLayerId": 2,
   "defaultVisibility": true,
   "subLayerIds": null,
   "minScale": 0,
   "maxScale": 0,
   "type": "Feature Layer",
   "geometryType": "esriGeometryPolygon",
   "supportsDynamicLegends": true
  },
  {
   "id": 7,
   "name": "480",
   "parentLayerId": 0,
   "defaultVisibility": true,
   "subLayerIds": [
    8
   ],
   "minScale": 480,
   "maxScale": 241,
   "type": "Group Layer",
   "supportsDynamicLegends": false
  },
  {
   "id": 8,
   "name": "Transportation and Infrastructure",
   "parentLayerId": 7,
   "defaultVisibility": true,
   "subLayerIds": [
    9,
    10,
    11,
    12
   ],
   "minScale": 0,
   "maxScale": 0,
   "type": "Group Layer",
   "supportsDynamicLegends": false
  },
  {
   "id": 9,
   "name": "Roads",
   "parentLayerId": 8,
   "defaultVisibility": true,
   "subLayerIds": null,
   "minScale": 0,
   "maxScale": 0,
   "type": "Feature Layer",
   "geometryType": "esriGeometryPolyline",
   "supportsDynamicLegends": true
  },
  {
   "id": 10,
   "name": "Railroads",
   "parentLayerId": 8,
   "defaultVisibility": true,
   "subLayerIds": null,
   "minScale": 0,
   "maxScale": 0,
   "type": "Feature Layer",
   "geometryType": "esriGeometryPolyline",
   "supportsDynamicLegends": true
  },
  {
   "id": 11,
   "name": "Edge Of Pavement",
   "parentLayerId": 8,
   "defaultVisibility": true,
   "subLayerIds": null,
   "minScale": 5000,
   "maxScale": 0,
   "type": "Feature Layer",
   "geometryType": "esriGeometryPolyline",
   "supportsDynamicLegends": true
  },
  {
   "id": 12,
   "name": "Right Of Way",
   "parentLayerId": 8,
   "defaultVisibility": true,
   "subLayerIds": null,
   "minScale": 0,
   "maxScale": 0,
   "type": "Feature Layer",
   "geometryType": "esriGeometryPolygon",
   "supportsDynamicLegends": true
  },
  {
   "id": 13,
   "name": "600",
   "parentLayerId": 0,
   "defaultVisibility": true,
   "subLayerIds": [
    14
   ],
   "minScale": 600,
   "maxScale": 481,
   "type": "Group Layer",
   "supportsDynamicLegends": false
  },
  {
   "id": 14,
   "name": "Transportation and Infrastructure",
   "parentLayerId": 13,
   "defaultVisibility": true,
   "subLayerIds": [
    15,
    16,
    17,
    18
   ],
   "minScale": 0,
   "maxScale": 0,
   "type": "Group Layer",
   "supportsDynamicLegends": false
  },
  {
   "id": 15,
   "name": "Roads",
   "parentLayerId": 14,
   "defaultVisibility": true,
   "subLayerIds": null,
   "minScale": 0,
   "maxScale": 0,
   "type": "Feature Layer",
   "geometryType": "esriGeometryPolyline",
   "supportsDynamicLegends": true
  },
  {
   "id": 16,
   "name": "Railroads",
   "parentLayerId": 14,
   "defaultVisibility": true,
   "subLayerIds": null,
   "minScale": 0,
   "maxScale": 0,
   "type": "Feature Layer",
   "geometryType": "esriGeometryPolyline",
   "supportsDynamicLegends": true
  },
  {
   "id": 17,
   "name": "Edge Of Pavement",
   "parentLayerId": 14,
   "defaultVisibility": true,
   "subLayerIds": null,
   "minScale": 5000,
   "maxScale": 0,
   "type": "Feature Layer",
   "geometryType": "esriGeometryPolyline",
   "supportsDynamicLegends": true
  },
  {
   "id": 18,
   "name": "Right Of Way",
   "parentLayerId": 14,
   "defaultVisibility": true,
   "subLayerIds": null,
   "minScale": 0,
   "maxScale": 0,
   "type": "Feature Layer",
   "geometryType": "esriGeometryPolygon",
   "supportsDynamicLegends": true
  },
  {
   "id": 19,
   "name": "1200",
   "parentLayerId": 0,
   "defaultVisibility": true,
   "subLayerIds": [
    20
   ],
   "minScale": 1200,
   "maxScale": 601,
   "type": "Group Layer",
   "supportsDynamicLegends": false
  },
  {
   "id": 20,
   "name": "Transportation and Infrastructure",
   "parentLayerId": 19,
   "defaultVisibility": true,
   "subLayerIds": [
    21,
    22,
    23,
    24
   ],
   "minScale": 0,
   "maxScale": 0,
   "type": "Group Layer",
   "supportsDynamicLegends": false
  },
  {
   "id": 21,
   "name": "Roads",
   "parentLayerId": 20,
   "defaultVisibility": true,
   "subLayerIds": null,
   "minScale": 0,
   "maxScale": 0,
   "type": "Feature Layer",
   "geometryType": "esriGeometryPolyline",
   "supportsDynamicLegends": true
  },
  {
   "id": 22,
   "name": "Railroads",
   "parentLayerId": 20,
   "defaultVisibility": true,
   "subLayerIds": null,
   "minScale": 0,
   "maxScale": 0,
   "type": "Feature Layer",
   "geometryType": "esriGeometryPolyline",
   "supportsDynamicLegends": true
  },
  {
   "id": 23,
   "name": "Edge Of Pavement",
   "parentLayerId": 20,
   "defaultVisibility": true,
   "subLayerIds": null,
   "minScale": 5000,
   "maxScale": 0,
   "type": "Feature Layer",
   "geometryType": "esriGeometryPolyline",
   "supportsDynamicLegends": true
  },
  {
   "id": 24,
   "name": "Right Of Way",
   "parentLayerId": 20,
   "defaultVisibility": true,
   "subLayerIds": null,
   "minScale": 0,
   "maxScale": 0,
   "type": "Feature Layer",
   "geometryType": "esriGeometryPolygon",
   "supportsDynamicLegends": true
  },
  {
   "id": 25,
   "name": "2400",
   "parentLayerId": 0,
   "defaultVisibility": true,
   "subLayerIds": [
    26
   ],
   "minScale": 2400,
   "maxScale": 1201,
   "type": "Group Layer",
   "supportsDynamicLegends": false
  },
  {
   "id": 26,
   "name": "Transportation and Infrastructure",
   "parentLayerId": 25,
   "defaultVisibility": true,
   "subLayerIds": [
    27,
    28,
    29,
    30
   ],
   "minScale": 0,
   "maxScale": 0,
   "type": "Group Layer",
   "supportsDynamicLegends": false
  },
  {
   "id": 27,
   "name": "Roads",
   "parentLayerId": 26,
   "defaultVisibility": true,
   "subLayerIds": null,
   "minScale": 0,
   "maxScale": 0,
   "type": "Feature Layer",
   "geometryType": "esriGeometryPolyline",
   "supportsDynamicLegends": true
  },
  {
   "id": 28,
   "name": "Railroads",
   "parentLayerId": 26,
   "defaultVisibility": true,
   "subLayerIds": null,
   "minScale": 0,
   "maxScale": 0,
   "type": "Feature Layer",
   "geometryType": "esriGeometryPolyline",
   "supportsDynamicLegends": true
  },
  {
   "id": 29,
   "name": "Edge Of Pavement",
   "parentLayerId": 26,
   "defaultVisibility": true,
   "subLayerIds": null,
   "minScale": 5000,
   "maxScale": 0,
   "type": "Feature Layer",
   "geometryType": "esriGeometryPolyline",
   "supportsDynamicLegends": true
  },
  {
   "id": 30,
   "name": "Right Of Way",
   "parentLayerId": 26,
   "defaultVisibility": true,
   "subLayerIds": null,
   "minScale": 0,
   "maxScale": 0,
   "type": "Feature Layer",
   "geometryType": "esriGeometryPolygon",
   "supportsDynamicLegends": true
  },
  {
   "id": 31,
   "name": "4800",
   "parentLayerId": 0,
   "defaultVisibility": true,
   "subLayerIds": [
    32
   ],
   "minScale": 4800,
   "maxScale": 2401,
   "type": "Group Layer",
   "supportsDynamicLegends": false
  },
  {
   "id": 32,
   "name": "Transportation and Infrastructure",
   "parentLayerId": 31,
   "defaultVisibility": true,
   "subLayerIds": [
    33,
    34,
    35
   ],
   "minScale": 0,
   "maxScale": 0,
   "type": "Group Layer",
   "supportsDynamicLegends": false
  },
  {
   "id": 33,
   "name": "Roads",
   "parentLayerId": 32,
   "defaultVisibility": true,
   "subLayerIds": null,
   "minScale": 0,
   "maxScale": 0,
   "type": "Feature Layer",
   "geometryType": "esriGeometryPolyline",
   "supportsDynamicLegends": true
  },
  {
   "id": 34,
   "name": "Railroads",
   "parentLayerId": 32,
   "defaultVisibility": true,
   "subLayerIds": null,
   "minScale": 0,
   "maxScale": 0,
   "type": "Feature Layer",
   "geometryType": "esriGeometryPolyline",
   "supportsDynamicLegends": true
  },
  {
   "id": 35,
   "name": "Edge Of Pavement",
   "parentLayerId": 32,
   "defaultVisibility": false,
   "subLayerIds": null,
   "minScale": 5000,
   "maxScale": 0,
   "type": "Feature Layer",
   "geometryType": "esriGeometryPolyline",
   "supportsDynamicLegends": true
  },
  {
   "id": 36,
   "name": "9600",
   "parentLayerId": 0,
   "defaultVisibility": true,
   "subLayerIds": [
    37
   ],
   "minScale": 9600,
   "maxScale": 4801,
   "type": "Group Layer",
   "supportsDynamicLegends": false
  },
  {
   "id": 37,
   "name": "Transportation and Infrastructure",
   "parentLayerId": 36,
   "defaultVisibility": true,
   "subLayerIds": [
    38,
    39
   ],
   "minScale": 0,
   "maxScale": 0,
   "type": "Group Layer",
   "supportsDynamicLegends": false
  },
  {
   "id": 38,
   "name": "Roads",
   "parentLayerId": 37,
   "defaultVisibility": true,
   "subLayerIds": null,
   "minScale": 0,
   "maxScale": 0,
   "type": "Feature Layer",
   "geometryType": "esriGeometryPolyline",
   "supportsDynamicLegends": true
  },
  {
   "id": 39,
   "name": "Railroads",
   "parentLayerId": 37,
   "defaultVisibility": true,
   "subLayerIds": null,
   "minScale": 0,
   "maxScale": 0,
   "type": "Feature Layer",
   "geometryType": "esriGeometryPolyline",
   "supportsDynamicLegends": true
  },
  {
   "id": 40,
   "name": "19200",
   "parentLayerId": 0,
   "defaultVisibility": true,
   "subLayerIds": [
    41
   ],
   "minScale": 19200,
   "maxScale": 9601,
   "type": "Group Layer",
   "supportsDynamicLegends": false
  },
  {
   "id": 41,
   "name": "Transportation and Infrastructure",
   "parentLayerId": 40,
   "defaultVisibility": true,
   "subLayerIds": [
    42,
    43
   ],
   "minScale": 0,
   "maxScale": 0,
   "type": "Group Layer",
   "supportsDynamicLegends": false
  },
  {
   "id": 42,
   "name": "Roads",
   "parentLayerId": 41,
   "defaultVisibility": true,
   "subLayerIds": null,
   "minScale": 0,
   "maxScale": 0,
   "type": "Feature Layer",
   "geometryType": "esriGeometryPolyline",
   "supportsDynamicLegends": true
  },
  {
   "id": 43,
   "name": "Railroads",
   "parentLayerId": 41,
   "defaultVisibility": true,
   "subLayerIds": null,
   "minScale": 0,
   "maxScale": 0,
   "type": "Feature Layer",
   "geometryType": "esriGeometryPolyline",
   "supportsDynamicLegends": true
  },
  {
   "id": 44,
   "name": "38400",
   "parentLayerId": 0,
   "defaultVisibility": true,
   "subLayerIds": [
    45
   ],
   "minScale": 38400,
   "maxScale": 19201,
   "type": "Group Layer",
   "supportsDynamicLegends": false
  },
  {
   "id": 45,
   "name": "Transportation and Infrastructure",
   "parentLayerId": 44,
   "defaultVisibility": true,
   "subLayerIds": [
    46,
    47
   ],
   "minScale": 0,
   "maxScale": 0,
   "type": "Group Layer",
   "supportsDynamicLegends": false
  },
  {
   "id": 46,
   "name": "Roads",
   "parentLayerId": 45,
   "defaultVisibility": true,
   "subLayerIds": null,
   "minScale": 0,
   "maxScale": 24001,
   "type": "Feature Layer",
   "geometryType": "esriGeometryPolyline",
   "supportsDynamicLegends": true
  },
  {
   "id": 47,
   "name": "Railroads",
   "parentLayerId": 45,
   "defaultVisibility": true,
   "subLayerIds": null,
   "minScale": 0,
   "maxScale": 0,
   "type": "Feature Layer",
   "geometryType": "esriGeometryPolyline",
   "supportsDynamicLegends": true
  },
  {
   "id": 48,
   "name": "76800",
   "parentLayerId": 0,
   "defaultVisibility": true,
   "subLayerIds": [
    49
   ],
   "minScale": 1000000,
   "maxScale": 38401,
   "type": "Group Layer",
   "supportsDynamicLegends": false
  },
  {
   "id": 49,
   "name": "Transportation and Infrastructure",
   "parentLayerId": 48,
   "defaultVisibility": true,
   "subLayerIds": [
    50,
    51
   ],
   "minScale": 0,
   "maxScale": 0,
   "type": "Group Layer",
   "supportsDynamicLegends": false
  },
  {
   "id": 50,
   "name": "Roads",
   "parentLayerId": 49,
   "defaultVisibility": true,
   "subLayerIds": null,
   "minScale": 0,
   "maxScale": 24001,
   "type": "Feature Layer",
   "geometryType": "esriGeometryPolyline",
   "supportsDynamicLegends": true
  },
  {
   "id": 51,
   "name": "Railroads",
   "parentLayerId": 49,
   "defaultVisibility": true,
   "subLayerIds": null,
   "minScale": 0,
   "maxScale": 0,
   "type": "Feature Layer",
   "geometryType": "esriGeometryPolyline",
   "supportsDynamicLegends": true
  },
  {
   "id": 52,
   "name": "_2020",
   "parentLayerId": -1,
   "defaultVisibility": true,
   "subLayerIds": null,
   "minScale": 0,
   "maxScale": 0,
   "type": "Feature Layer",
   "geometryType": "esriGeometryPolygon",
   "supportsDynamicLegends": true
  }
 ],
 "tables": [],
 "spatialReference": {
  "wkid": 2253,
  "latestWkid": 2253,
  "xyTolerance": 0.0032808398950131233,
  "zTolerance": 0.001,
  "mTolerance": 0.001,
  "falseX": -107138600,
  "falseY": -97193800,
  "xyUnits": 3.744825048463371E7,
  "falseZ": -100000,
  "zUnits": 10000,
  "falseM": -100000,
  "mUnits": 10000
 },
 "singleFusedMapCache": true,
 "tileInfo": {
  "rows": 256,
  "cols": 256,
  "dpi": 96,
  "format": "MIXED",
  "compressionQuality": 75,
  "origin": {
   "x": -107138600,
   "y": 1.4333010000000003E8
  },
  "spatialReference": {
   "wkid": 2253,
   "latestWkid": 2253,
   "xyTolerance": 0.0032808398950131233,
   "zTolerance": 0.001,
   "mTolerance": 0.001,
   "falseX": -107138600,
   "falseY": -97193800,
   "xyUnits": 3.744825048463371E7,
   "falseZ": -100000,
   "zUnits": 10000,
   "falseM": -100000,
   "mUnits": 10000
  },
  "lods": [
   {
    "level": 0,
    "resolution": 66.66680000026666,
    "scale": 76800
   },
   {
    "level": 1,
    "resolution": 33.33340000013333,
    "scale": 38400
   },
   {
    "level": 2,
    "resolution": 16.666700000066665,
    "scale": 19200
   },
   {
    "level": 3,
    "resolution": 8.333350000033333,
    "scale": 9600
   },
   {
    "level": 4,
    "resolution": 4.166675000016666,
    "scale": 4800
   },
   {
    "level": 5,
    "resolution": 2.083337500008333,
    "scale": 2400
   },
   {
    "level": 6,
    "resolution": 1.0416687500041666,
    "scale": 1200
   },
   {
    "level": 7,
    "resolution": 0.5208343750020833,
    "scale": 600
   },
   {
    "level": 8,
    "resolution": 0.41666750000166664,
    "scale": 480
   },
   {
    "level": 9,
    "resolution": 0.20833375000083332,
    "scale": 240
   }
  ]
 },
 "storageInfo": {
  "storageFormat": "esriMapCacheStorageModeCompactV2",
  "packetSize": 128
 },
 "initialExtent": {
  "xmin": 1.3273053295303388E7,
  "ymin": 255021.3027729935,
  "xmax": 1.3312584383822998E7,
  "ymax": 316596.38445843995,
  "spatialReference": {
   "wkid": 2253,
   "latestWkid": 2253,
   "xyTolerance": 0.0032808398950131233,
   "zTolerance": 0.001,
   "mTolerance": 0.001,
   "falseX": -107138600,
   "falseY": -97193800,
   "xyUnits": 3.744825048463371E7,
   "falseZ": -100000,
   "zUnits": 10000,
   "falseM": -100000,
   "mUnits": 10000
  }
 },
 "fullExtent": {
  "xmin": 1.3255671625238355E7,
  "ymin": 249879.80047170073,
  "xmax": 1.3334234212125335E7,
  "ymax": 326588.37121763825,
  "spatialReference": {
   "wkid": 2253,
   "latestWkid": 2253,
   "xyTolerance": 0.0032808398950131233,
   "zTolerance": 0.001,
   "mTolerance": 0.001,
   "falseX": -107138600,
   "falseY": -97193800,
   "xyUnits": 3.744825048463371E7,
   "falseZ": -100000,
   "zUnits": 10000,
   "falseM": -100000,
   "mUnits": 10000
  }
 },
 "datesInUnknownTimezone": false,
 "minScale": 76800,
 "maxScale": 240,
 "units": "esriFeet",
 "supportedImageFormatTypes": "PNG32,PNG24,PNG,JPG,DIB,TIFF,EMF,PS,PDF,GIF,SVG,SVGZ,BMP",
 "documentInfo": {
  "Title": "Untitled.aprx",
  "Author": "",
  "Comments": "2015 Aerial Photo Cache for Ann Arbor Web Maps",
  "Subject": "Aerial Photo Cache for Ann Arbor Web Maps",
  "Category": "",
  "Version": "2.6.0",
  "AntialiasingMode": "Fast",
  "TextAntialiasingMode": "Force",
  "Keywords": "Photo,Aerial Photo,Photo Cache"
 },
 "supportsQueryDomains": true,
 "capabilities": "Map,Query,Data",
 "supportedQueryFormats": "JSON, geoJSON, PBF",
 "hasVersionedData": true,
 "exportTilesAllowed": false,
 "referenceScale": 0.0,
 "supportsDatumTransformation": true,
 "archivingInfo": {
  "supportsHistoricMoment": true
 },
 "supportsClipping": true,
 "supportsSpatialFilter": true,
 "supportsTimeRelation": true,
 "supportsQueryDataElements": true,
 "mapUnits": {
  "uwkid": 9002
 },
 "maxRecordCount": 1000,
 "maxImageHeight": 4096,
 "maxImageWidth": 4096,
 "supportedExtensions": "",
 "resampling": false
}
